BEGIN:VCALENDAR
VERSION:2.0
PRODID:-//CollegeNET Inc//NONSGML R25//EN
X-R25-ENGINE:SWS
METHOD:PUBLISH
CALSCALE:GREGORIAN
BEGIN:VTIMEZONE
TZID:America/New_York
BEGIN:DAYLIGHT
TZNAME:EDT
DTSTART:20250309T020000
TZOFFSETFROM:-0500
TZOFFSETTO:-0400
END:DAYLIGHT
BEGIN:DAYLIGHT
TZNAME:EDT
DTSTART:20260308T020000
TZOFFSETFROM:-0500
TZOFFSETTO:-0400
END:DAYLIGHT
BEGIN:STANDARD
TZNAME:EST
DTSTART:20251102T020000
TZOFFSETFROM:-0400
TZOFFSETTO:-0500
END:STANDARD
BEGIN:STANDARD
TZNAME:EST
DTSTART:20261101T020000
TZOFFSETFROM:-0400
TZOFFSETTO:-0500
END:STANDARD
END:VTIMEZONE
BEGIN:VEVENT
UID;X-R25-ID=156084:UAI/R25/471/2025-AATVXP/166246/852785
SUMMARY:CDM Alumni Homecoming Celebration
X-R25-TITLE:Alumni Homecoming Celebration
X-R25-TYPE;X-R25-ID=24:Reception
X-R25-HEADCOUNT;X-R25-TYPE=EXPECTED:150
X-R25-ORGANIZATION;X-R25-ID=29;X-R25-PRIMARY=1:College of Dental Medicine
SEQUENCE:2
PRIORITY:0
STATUS:CONFIRMED
DTSTAMP:20260420T054316Z
CREATED:20251112T172200Z
LAST-MODIFIED:20260120T190935Z
DTSTART;TZID=America/New_York:20260228T190000
DTEND;TZID=America/New_York:20260228T220000
ORGANIZER;X-R25-ID=10174;CN="Graf Dobson^, Lauren":MAILTO:grafl@musc.edu
ATTENDEE;X-R25-ID=10174;ROLE=Requestor;CN="Graf Dobson^, Lauren":MAILTO:grafl@musc.edu
END:VEVENT
END:VCALENDAR
